BEGIN:VCALENDAR
VERSION:2.0
PRODID:-//Pro Bono Program - ECPv5.16.4//NONSGML v1.0//EN
CALSCALE:GREGORIAN
METHOD:PUBLISH
X-WR-CALNAME:Pro Bono Program
X-ORIGINAL-URL:https://probono.uofsclaw.org
X-WR-CALDESC:Events for Pro Bono Program
BEGIN:VTIMEZONE
TZID:America/New_York
BEGIN:DAYLIGHT
TZOFFSETFROM:-0500
TZOFFSETTO:-0400
TZNAME:EDT
DTSTART:20200308T070000
END:DAYLIGHT
BEGIN:STANDARD
TZOFFSETFROM:-0400
TZOFFSETTO:-0500
TZNAME:EST
DTSTART:20201101T060000
END:STANDARD
END:VTIMEZONE
BEGIN:VEVENT
DTSTART;TZID=America/New_York:20200504T140000
DTEND;TZID=America/New_York:20200504T170000
DTSTAMP:20260419T123752
CREATED:20200423T171233Z
LAST-MODIFIED:20200423T171233Z
UID:1671-1588600800-1588611600@probono.uofsclaw.org
SUMMARY:May Virtual Blitz
DESCRIPTION:Teams of lawyers and law students meet online to respond to questions posted by the public to the SC Bar online portal\, SC. Free Legal Answers.org \nSign up here: https://www.signupgenius.com/go/20f0445a8a82ea1fc1-mayvirtual \n 
URL:https://probono.uofsclaw.org/event/may-virtual-blitz/
LOCATION:WebEx
CATEGORIES:SC Bar
END:VEVENT
END:VCALENDAR