BEGIN:VCALENDAR
VERSION:2.0
PRODID:-//Pro Bono Program - ECPv5.16.4//NONSGML v1.0//EN
CALSCALE:GREGORIAN
METHOD:PUBLISH
X-WR-CALNAME:Pro Bono Program
X-ORIGINAL-URL:https://probono.uofsclaw.org
X-WR-CALDESC:Events for Pro Bono Program
BEGIN:VTIMEZONE
TZID:America/New_York
BEGIN:DAYLIGHT
TZOFFSETFROM:-0500
TZOFFSETTO:-0400
TZNAME:EDT
DTSTART:20200308T070000
END:DAYLIGHT
BEGIN:STANDARD
TZOFFSETFROM:-0400
TZOFFSETTO:-0500
TZNAME:EST
DTSTART:20201101T060000
END:STANDARD
END:VTIMEZONE
BEGIN:VEVENT
DTSTART;TZID=America/New_York:20200318T120000
DTEND;TZID=America/New_York:20200318T133000
DTSTAMP:20260419T123451
CREATED:20200212T191434Z
LAST-MODIFIED:20200311T141439Z
UID:1595-1584532800-1584538200@probono.uofsclaw.org
SUMMARY:Pro Bono Program Day
DESCRIPTION:The City of Columbia will present a resolution at the March 17th City Council meeting at 6pm on March 17th declaring March 18th as ” USC School of Law Pro Bono Program Day” This resolution is recognition of the program’s 30 years of making a difference. Join us as we celebrate with cake and Ice cream
URL:https://probono.uofsclaw.org/event/pro-bono-program-day/
LOCATION:Cafe\, 1525 Senate St\, Columbia\, 29208\, United States
CATEGORIES:Events
END:VEVENT
END:VCALENDAR