BEGIN:VCALENDAR
VERSION:2.0
PRODID:-//Pro Bono Program - ECPv5.16.4//NONSGML v1.0//EN
CALSCALE:GREGORIAN
METHOD:PUBLISH
X-WR-CALNAME:Pro Bono Program
X-ORIGINAL-URL:https://probono.uofsclaw.org
X-WR-CALDESC:Events for Pro Bono Program
BEGIN:VTIMEZONE
TZID:America/New_York
BEGIN:DAYLIGHT
TZOFFSETFROM:-0500
TZOFFSETTO:-0400
TZNAME:EDT
DTSTART:20220313T070000
END:DAYLIGHT
BEGIN:STANDARD
TZOFFSETFROM:-0400
TZOFFSETTO:-0500
TZNAME:EST
DTSTART:20221106T060000
END:STANDARD
END:VTIMEZONE
BEGIN:VEVENT
DTSTART;TZID=America/New_York:20221027T180000
DTEND;TZID=America/New_York:20221027T200000
DTSTAMP:20260419T202034
CREATED:20220921T191446Z
LAST-MODIFIED:20220921T191446Z
UID:35314-1666893600-1666900800@probono.uofsclaw.org
SUMMARY:SOAR Orientation
DESCRIPTION:See post for details
URL:https://probono.uofsclaw.org/event/soar-orientation-3/
LOCATION:Room 389 USC Law
CATEGORIES:SOAR
END:VEVENT
END:VCALENDAR