BEGIN:VCALENDAR
VERSION:2.0
PRODID:-//Pro Bono Program - ECPv5.16.4//NONSGML v1.0//EN
CALSCALE:GREGORIAN
METHOD:PUBLISH
X-WR-CALNAME:Pro Bono Program
X-ORIGINAL-URL:https://probono.uofsclaw.org
X-WR-CALDESC:Events for Pro Bono Program
BEGIN:VTIMEZONE
TZID:America/New_York
BEGIN:DAYLIGHT
TZOFFSETFROM:-0500
TZOFFSETTO:-0400
TZNAME:EDT
DTSTART:20200308T070000
END:DAYLIGHT
BEGIN:STANDARD
TZOFFSETFROM:-0400
TZOFFSETTO:-0500
TZNAME:EST
DTSTART:20201101T060000
END:STANDARD
END:VTIMEZONE
BEGIN:VEVENT
DTSTART;TZID=America/New_York:20200314T090000
DTEND;TZID=America/New_York:20200314T120000
DTSTAMP:20260419T142905
CREATED:20191218T143314Z
LAST-MODIFIED:20191218T143314Z
UID:1521-1584176400-1584187200@probono.uofsclaw.org
SUMMARY:VITA Tax Preparation
DESCRIPTION:Certified volunteers will conduct intake interview\, prepare and e-file tax returns for low income persons. For information about certification contact the Pro Bono Program today
URL:https://probono.uofsclaw.org/event/vita-tax-preparation-8/
LOCATION:Cafe\, 1525 Senate St\, Columbia\, 29208\, United States
CATEGORIES:VITA
END:VEVENT
END:VCALENDAR